BEGIN:VCALENDAR
METHOD:PUBLISH
VERSION:2.0
PRODID:-//Eventilla iCal Syndication//NONSGML Liana//EN
BEGIN:VEVENT
UID:1EA4B@eventilla.com
DTSTAMP:20260331T070000Z
DTSTART:20260331T070000Z
DTEND:20260331T080000Z
SUMMARY:Strategisen tutkimuksen ohjelmajohtajahaku 2026
DESCRIPTION:Strategisen tutkimuksen neuvoston (STN) rahoitukseen kuuluu kiinteästi ohjelmajohtajainstrumentti. Jokaisella STN:n rahoittamalla ohjelmalla on ohjelmajohtaja. Ohjelmajohtajarahoituksen tavoitteena on edistää ohjelmien hanke- ja ohjelmarajat ylittävää tieteellistä ja yhteiskunnallista vaikuttavuutta. STN:n vuoden 2026 ohjelmille haetaan enintään kahta osa-aikaista ohjelmajohtajaa.\nVuonna 2026 käynnistyvät ohjelmat:\n* Arktinen alue murroksessa (ARCTIC)\n* Mielen kansanterveys (MIND)\nOhjelmajohtajahaku on auki 25.3.-6.5.2026. Tutustu hakuilmoitukseen.\nOsallistujien on mahdollista kysyä kysymyksiä webinaarin aikana tai lähettää kysymyksiä ennakkoon ilmoittautumisen yhteydessä.\nWebinaari on suomenkielinen.\nTilaisuutta ei tallenneta\, mutta esitysmateriaali julkaistaan Suomen Akatemian verkkosivuilla Ask&Apply muutama päivä tilaisuuden jälkeen.
LOCATION:Microsoft Teams
URL:http://events.aka.fi/event/1EA4B
END:VEVENT
END:VCALENDAR
